BEGIN:VCALENDAR
VERSION:2.0
PRODID:-//SEAHRN
CALSCALE:GREGORIAN
METHOD:PUBLISH
X-WR-CALNAME:SEAHRN
X-ORIGINAL-URL:https://seahrn.net/conference/the-sixth-international-conference
X-WR-CALDESC:The Sixth International Conference
BEGIN:VEVENT
DTSTART:20240813T000000
DTEND:20240814T000000
SUMMARY:The Sixth International Conference
DESCRIPTION:Peace and Human Rights in the Context of Contemporary Global Crises.
LOCATION:St. Giles Wembley Penang, Malaysia
END:VEVENT
END:VCALENDAR
